Workbook

Sheet Sheet1
A1: 序号 | B1: 标的物名称 （品种） | C1: 品牌 | D1: 单位 | E1: 中标价（元/单位） | F1: 单品类中标单位名称 | G1: 备注
A2: 46 | B2: 蛋挞皮 | C2: 大佬强 | D2: 斤 | E2: =[1]报价评审表!L12 -> 15 | F2: =[1]报价评审表!M12 -> 南通登和农副产品有限公司
A3: 51 | B3: 滑油鸡丁 | C3: 学子膳 | D3: 斤 | E3: =[1]报价评审表!L14 -> 7.3 | F3: =[1]报价评审表!M14 -> 南通登和农副产品有限公司
A4: 106 | B4: 龙骨脆 | C4: 瑞发德 | D4: 斤 | E4: =[1]报价评审表!L23 -> 7.5 | F4: 南通登和农副产品有限公司
A5: 120 | B5: 奶香小馒头 | C5: 安井 | D5: 斤 | E5: =[1]报价评审表!L26 -> 15 | F5: =[1]报价评审表!M26 -> 南通登和农副产品有限公司
A6: 126 | B6: 千层饼 | C6: 尹长坤 | D6: 斤 | E6: =[1]报价评审表!L27 -> 6.5 | F6: =[1]报价评审表!M27 -> 南通登和农副产品有限公司
A7: 166 | B7: 新祺耐焙烤调理奶油（蛋挞液） | C7: 麦肯嘉顿 | D7: 斤 | E7: =[1]报价评审表!L34 -> 18 | F7: =[1]报价评审表!M34 -> 南通登和农副产品有限公司
A8: 181 | B8: 腰花肠 | C8: 天清 | D8: 斤 | E8: =[1]报价评审表!L36 -> 10 | F8: =[1]报价评审表!M36 -> 南通登和农副产品有限公司
A9: 182 | B9: 鱿鱼耳花 | C9: 鸿海 | D9: 斤 | E9: =[1]报价评审表!L37 -> 25 | F9: =[1]报价评审表!M37 -> 南通登和农副产品有限公司
A10: 206 | B10: 奥尔良胸排 | C10: 立信 | D10: 斤 | E10: =[1]报价评审表!L40 -> 8 | F10: =[1]报价评审表!M40 -> 南通登和农副产品有限公司
A11: 223 | B11: 红糖糍粑 | C11: 阿诺 | D11: 斤 | E11: =[1]报价评审表!L44 -> 15 | F11: =[1]报价评审表!M44 -> 南通登和农副产品有限公司
A12: 259 | B12: 天妇罗虾 | C12: 安膳小库 | D12: 斤 | E12: =[1]报价评审表!L51 -> 25 | F12: =[1]报价评审表!M51 -> 南通登和农副产品有限公司
A13: 275 | B13: 单冻翅中 | C13: 锦伊发 | D13: 斤 | E13: =[1]报价评审表!L58 -> 22.8 | F13: =[1]报价评审表!M58 -> 南通登和农副产品有限公司 | G13: 每个不小于60g、10kg/箱
A14: 285 | B14: 进口牛小排 | C14: 美膳坊 | D14: 斤 | E14: =[1]报价评审表!L62 -> 85 | F14: =[1]报价评审表!M62 -> 南通登和农副产品有限公司
A15: 33 | B15: 包心鱼丸 | C15: 安井 | D15: 斤 | E15: =[1]报价评审表!L10 -> 7 | F15: 南通林双宸食品有限公司
A16: 40 | B16: 脆骨啵啵肠 | C16: 安井 | D16: 斤 | E16: =[1]报价评审表!L11 -> 7.75 | F16: =[1]报价评审表!M11 -> 南通林双宸食品有限公司
A17: 47 | B17: 多肉炸子鸡 | C17: 学子膳 | D17: 斤 | E17: =[1]报价评审表!L13 -> 5.75 | F17: =[1]报价评审表!M13 -> 南通林双宸食品有限公司
A18: 69 | B18: 黑椒肉粒 | C18: 学子膳 | D18: 斤 | E18: =[1]报价评审表!L17 -> 7.85 | F18: =[1]报价评审表!M17 -> 南通林双宸食品有限公司
A19: 73 | B19: 红豆紫薯包 | C19: 心思源 | D19: 斤 | E19: =[1]报价评审表!L18 -> 5.9 | F19: =[1]报价评审表!M18 -> 南通林双宸食品有限公司
A20: 96 | B20: 金典盐酥鸡 | C20: 学子膳 | D20: 斤 | E20: =[1]报价评审表!L21 -> 5.75 | F20: =[1]报价评审表!M21 -> 南通林双宸食品有限公司
A21: 135 | B21: 撒尿肉丸 | C21: 安井 | D21: 斤 | E21: =[1]报价评审表!L29 -> 8.8 | F21: =[1]报价评审表!M29 -> 南通林双宸食品有限公司
A22: 153 | B22: 霞糕 | C22: 安井 | D22: 斤 | E22: =[1]报价评审表!L32 -> 6.85 | F22: =[1]报价评审表!M32 -> 南通林双宸食品有限公司
A23: 157 | B23: 香菇贡丸 | C23: 安井 | D23: 斤 | E23: =[1]报价评审表!L33 -> 7.1 | F23: =[1]报价评审表!M33 -> 南通林双宸食品有限公司
A24: 57 | B24: 放心大油条 | C24: 润可 | D24: 斤 | E24: =[1]报价评审表!L15 -> 4.58 | F24: =[1]报价评审表!M15 -> 南通食行企业服务有限公司
A25: 95 | B25: 夹心鱼排 | C25: 海欣 | D25: 斤 | E25: =[1]报价评审表!L20 -> 7.22 | F25: =[1]报价评审表!M20 -> 南通食行企业服务有限公司
A26: 113 | B26: 米兰虾饼 | C26: 亚洲渔港 | D26: 斤 | E26: =[1]报价评审表!L25 -> 12.42 | F26: =[1]报价评审表!M25 -> 南通食行企业服务有限公司
A27: 188 | B27: 鱼籽福袋 | C27: 海欣 | D27: 斤 | E27: =[1]报价评审表!L38 -> 21.66 | F27: =[1]报价评审表!M38 -> 南通食行企业服务有限公司
A28: 210 | B28: 章鱼小丸子 | C28: 亚洲渔港 | D28: 斤 | E28: =[1]报价评审表!L41 -> 12.96 | F28: =[1]报价评审表!M41 -> 南通食行企业服务有限公司
A29: 242 | B29: 鸡蛋灌饼 | C29: 馋嘴小妞 | D29: 斤 | E29: =[1]报价评审表!L48 -> 3.88 | F29: =[1]报价评审表!M48 -> 南通食行企业服务有限公司
A30: 244 | B30: 面筋串（大串） | C30: 喜悦 | D30: 斤 | E30: =[1]报价评审表!L49 -> 4 | F30: =[1]报价评审表!M49 -> 南通食行企业服务有限公司
A31: 263 | B31: 红糖手撕馒头 | C31: 安井 | D31: 斤 | E31: =[1]报价评审表!L53 -> 7.53 | F31: =[1]报价评审表!M53 -> 南通食行企业服务有限公司 | G31: 510g*12包
A32: 265 | B32: 黄金大锅贴 | C32: 巴记磨坊 | D32: 斤 | E32: =[1]报价评审表!L54 -> 9.03 | F32: =[1]报价评审表!M54 -> 南通食行企业服务有限公司 | G32: 1Kg*8包
A33: 269 | B33: 地锅饼 | C33: 永厨 | D33: 斤 | E33: =[1]报价评审表!L55 -> 5.26 | F33: =[1]报价评审表!M55 -> 南通食行企业服务有限公司 | G33: 380g*20包
A34: 270 | B34: 鸭头 | C34: 兴达 | D34: 斤 | E34: =[1]报价评审表!L56 -> 12.26 | F34: =[1]报价评审表!M56 -> 南通食行企业服务有限公司 | G34: 1kg9个头、12kg/箱
A35: 279 | B35: 鸭舌 | C35: 益客 | D35: 斤 | E35: =[1]报价评审表!L61 -> 53.33 | F35: =[1]报价评审表!M61 -> 南通食行企业服务有限公司 | G35: L号、12kg/箱
A36: 22 | B36: Q鱼味板 | C36: 安井 | D36: 斤 | E36: =[1]报价评审表!L7 -> 4.75 | F36: =[1]报价评审表!M7 -> 南通市旭禧盛食品有限公司
A37: 25 | B37: 奥尔良全腿 | C37: 立信 | D37: 斤 | E37: =[1]报价评审表!L8 -> 9 | F37: =[1]报价评审表!M8 -> 南通市旭禧盛食品有限公司
A38: 31 | B38: 包心贡丸 | C38: 安井 | D38: 斤 | E38: =[1]报价评审表!L9 -> 7.25 | F38: =[1]报价评审表!M9 -> 南通市旭禧盛食品有限公司
A39: 61 | B39: 嘎嘎脆鸡排 | C39: 大红德邻 | D39: 斤 | E39: =[1]报价评审表!L16 -> 8.5 | F39: 南通市旭禧盛食品有限公司
A40: 110 | B40: 美味三文治香肠 | C40: 双汇 | D40: 斤 | E40: =[1]报价评审表!L24 -> 6.6 | F40: =[1]报价评审表!M24 -> 南通市旭禧盛食品有限公司
A41: 214 | B41: 香酥排条 | C41: 味嘟美 | D41: 斤 | E41: =[1]报价评审表!L42 -> 6.38 | F41: =[1]报价评审表!M42 -> 南通市旭禧盛食品有限公司
A42: 221 | B42: 带肉牛脊骨 | C42: 进口 | D42: 斤 | E42: =[1]报价评审表!L43 -> 14 | F42: =[1]报价评审表!M43 -> 南通市旭禧盛食品有限公司
A43: 226 | B43: 调制猪油 | C43: 臻正義 | D43: 斤 | E43: =[1]报价评审表!L45 -> 7.5 | F43: =[1]报价评审表!M45 -> 南通市旭禧盛食品有限公司
A44: 227 | B44: 牛油 | C44: 牧哥 | D44: 斤 | E44: =[1]报价评审表!L46 -> 10 | F44: =[1]报价评审表!M46 -> 南通市旭禧盛食品有限公司
A45: 228 | B45: 闽南香肉 | C45: 安井 | D45: 斤 | E45: =[1]报价评审表!L47 -> 6.95 | F45: =[1]报价评审表!M47 -> 南通市旭禧盛食品有限公司
A46: 256 | B46: 夹心脆排 | C46: 安井 | D46: 斤 | E46: =[1]报价评审表!L50 -> 6 | F46: =[1]报价评审表!M50 -> 南通市旭禧盛食品有限公司
A47: 88 | B47: 鸡胗 | C47: 正大 | D47: 斤 | E47: =[1]报价评审表!L19 -> 7.5 | F47: =[1]报价评审表!M19 -> 南通祥鸿食品有限公司
A48: 104 | B48: 乐享鸡块 | C48: 凤祥 | D48: 斤 | E48: =[1]报价评审表!L22 -> 6.25 | F48: =[1]报价评审表!M22 -> 南通祥鸿食品有限公司
A49: 128 | B49: 千夜豆腐 | C49: 安井 | D49: 斤 | E49: =[1]报价评审表!L28 -> 3.35 | F49: =[1]报价评审表!M28 -> 南通祥鸿食品有限公司
A50: 141 | B50: 蒜香粒粒吉（整肉） | C50: 正大 | D50: 斤 | E50: =[1]报价评审表!L30 -> 6.39 | F50: =[1]报价评审表!M30 -> 南通祥鸿食品有限公司 | G50: 整肉
A51: 142 | B51: 唐扬块 | C51: 瑞发德 | D51: 斤 | E51: =[1]报价评审表!L31 -> 9 | F51: =[1]报价评审表!M31 -> 南通祥鸿食品有限公司
A52: 170 | B52: 雪花排条 | C52: 丸典 | D52: 斤 | E52: =[1]报价评审表!L35 -> 6.94 | F52: =[1]报价评审表!M35 -> 南通祥鸿食品有限公司
A53: 189 | B53: 鱼籽烧 | C53: 鸿芳 | D53: 斤 | E53: =[1]报价评审表!L39 -> 8.99 | F53: =[1]报价评审表!M39 -> 南通祥鸿食品有限公司
A54: 262 | B54: 鸡爪 | C54: 益客 | D54: 斤 | E54: =[1]报价评审表!L52 -> 14.3 | F54: =[1]报价评审表!M52 -> 南通祥鸿食品有限公司
A55: 274 | B55: 耳片（猪耳朵） | C55: 广友 | D55: 斤 | E55: =[1]报价评审表!L57 -> 19.5 | F55: =[1]报价评审表!M57 -> 南通祥鸿食品有限公司 | G55: 无根、10kg/箱
A56: 276 | B56: 脆皮鸡翅根 | C56: 孚德 | D56: 斤 | E56: =[1]报价评审表!L59 -> 10.94 | F56: =[1]报价评审表!M59 -> 南通祥鸿食品有限公司 | G56: 原味、10kg/箱
A57: 277 | B57: 鸡爪 | C57: 益客 | D57: 斤 | E57: =[1]报价评审表!L60 -> 14.3 | F57: =[1]报价评审表!M60 -> 南通祥鸿食品有限公司 | G57: L号、10kg/箱
A58: 286 | B58: 脆口条 | C58: 馨宝居 | D58: 斤 | E58: =[1]报价评审表!L63 -> 22 | F58: =[1]报价评审表!M63 -> 南通新鲜达农副产品配送有限公司
